BEGIN:VCALENDAR
VERSION:2.0
PRODID:-//Flow Forward Initiative - ECPv6.15.20//NONSGML v1.0//EN
CALSCALE:GREGORIAN
METHOD:PUBLISH
X-ORIGINAL-URL:https://flowforwardinitiative.net
X-WR-CALDESC:Events for Flow Forward Initiative
REFRESH-INTERVAL;VALUE=DURATION:PT1H
X-Robots-Tag:noindex
X-PUBLISHED-TTL:PT1H
BEGIN:VTIMEZONE
TZID:UTC
BEGIN:STANDARD
TZOFFSETFROM:+0000
TZOFFSETTO:+0000
TZNAME:UTC
DTSTART:20250101T000000
END:STANDARD
END:VTIMEZONE
BEGIN:VEVENT
DTSTART;TZID=UTC:20260613T113000
DTEND;TZID=UTC:20260613T163000
DTSTAMP:20260420T164423
CREATED:20260318T154211Z
LAST-MODIFIED:20260318T154211Z
UID:1916-1781350200-1781368200@flowforwardinitiative.net
SUMMARY:Pirates VS Marlins – Pittsburgh\, PA
DESCRIPTION:PNC Park \nFree Hawaiian Shirt Night \n6/13/2026 – Game starts at 4:05PM EST \nHours of Operation: \nSaturday: 12:05PM – 4:05PM
URL:https://flowforwardinitiative.net/event/pirates-vs-marlins-pittsburgh-pa/
LOCATION:PNC Park\, 115 Federal Street\, Pittsburgh\, PA\, 15212\, United States
ORGANIZER;CN="Anthony Celender":MAILTO:anthonycelender@gmail.com
END:VEVENT
BEGIN:VEVENT
DTSTART;TZID=UTC:20260627T113000
DTEND;TZID=UTC:20260627T163000
DTSTAMP:20260420T164423
CREATED:20260318T154432Z
LAST-MODIFIED:20260318T160323Z
UID:1918-1782559800-1782577800@flowforwardinitiative.net
SUMMARY:Pirates VS Reds – Pittsburgh\, PA
DESCRIPTION:PNC Park \nSoccer Night \n6/27/2026 – Game starts at 4:05PM EST \nHours of Operation: \nSaturday: 12:05PM – 4:05PM
URL:https://flowforwardinitiative.net/event/pirates-vs-reds-pittsburgh-pa-2/
LOCATION:PNC Park\, 115 Federal Street\, Pittsburgh\, PA\, 15212\, United States
ORGANIZER;CN="Anthony Celender":MAILTO:anthonycelender@gmail.com
END:VEVENT
END:VCALENDAR